BEGIN:VCALENDAR
VERSION:2.0
PRODID:-//wp-events-plugin.com//7.2.3.1//EN
TZID:America/New_York
X-WR-TIMEZONE:America/New_York
BEGIN:VEVENT
UID:115@chattanoogamusicscene.com
DTSTART;TZID=America/New_York:20250523T200000
DTEND;TZID=America/New_York:20250523T230000
DTSTAMP:20250505T021516Z
URL:https://www.chattanoogamusicscene.com/events/up-in-smoke-variety-show-
 3/
SUMMARY:Up In Smoke Variety Show
DESCRIPTION:Get ready for a night of fire performances\, comedy\, music\, a
 nd more at the Up In Smoke Variety Show!\nDoors open at 7:30pm show starts
  at 8:00pm\, $15 Cover charge at the door with valid ID 21+\nAmish Paradis
 e Project (Weird Al Yankovic Tribute)\nDavid Habel (comedian)\nMarty Barto
 w (comedian)\nElijah Can (comedian)\nGirl Day (Green Day Tribute Band)\nSt
 raight to the Stomach will setup outside for your munchies\n\n
CATEGORIES:Live Music
LOCATION:\, \, 
X-APPLE-STRUCTURED-LOCATION;VALUE=URI;X-ADDRESS=\, ;X-APPLE-RADIUS=100;X-TI
 TLE=:geo:0,0
END:VEVENT
BEGIN:VTIMEZONE
TZID:America/New_York
X-LIC-LOCATION:America/New_York
BEGIN:DAYLIGHT
DTSTART:20250309T030000
TZOFFSETFROM:-0500
TZOFFSETTO:-0400
TZNAME:EDT
END:DAYLIGHT
END:VTIMEZONE
END:VCALENDAR