BEGIN:VCALENDAR
VERSION:2.0
PRODID:-//wp-events-plugin.com//7.2.3.1//EN
TZID:America/New_York
X-WR-TIMEZONE:America/New_York
BEGIN:VEVENT
UID:113@chattanoogamusicscene.com
DTSTART;TZID=America/New_York:20250517T200000
DTEND;TZID=America/New_York:20250517T230000
DTSTAMP:20250505T020149Z
URL:https://www.chattanoogamusicscene.com/events/the-green-sheep-of-the-fa
 mily/
SUMMARY:The Green Sheep of the Family
DESCRIPTION:Doors open at 7:30pm and the show starts at 8pm. $15 Cover char
 ge at door with valid ID 21+\nJAYE DOLLA \nDUPREEZY \nCUATRO CINCO \nCALLE
 E \n
CATEGORIES:Live Music
LOCATION:The Play House Corner at Mary Jane's\, 7301 Lee Hwy \, Chattanooga
 \, TN \, 37421 \, United States
GEO:35.052695;-85.150255
X-APPLE-STRUCTURED-LOCATION;VALUE=URI;X-ADDRESS=7301 Lee Hwy \, Chattanooga
 \, TN \, 37421 \, United States;X-APPLE-RADIUS=100;X-TITLE=The Play House 
 Corner at Mary Jane's:geo:35.052695,-85.150255
END:VEVENT
BEGIN:VTIMEZONE
TZID:America/New_York
X-LIC-LOCATION:America/New_York
BEGIN:DAYLIGHT
DTSTART:20250309T030000
TZOFFSETFROM:-0500
TZOFFSETTO:-0400
TZNAME:EDT
END:DAYLIGHT
END:VTIMEZONE
END:VCALENDAR