BEGIN:VCALENDAR
VERSION:2.0
PRODID:-//wp-events-plugin.com//7.2.3.1//EN
TZID:America/New_York
X-WR-TIMEZONE:America/New_York
BEGIN:VEVENT
UID:293@chattanoogamusicscene.com
DTSTART;TZID=America/New_York:20250622T120000
DTEND;TZID=America/New_York:20250622T140000
DTSTAMP:20250616T024440Z
URL:https://www.chattanoogamusicscene.com/events/sunday-brunch-with-amber-
 fults-at-1885-grill-st-elmo/
SUMMARY:Sunday Brunch with Amber Fults at 1885 Grill (St. Elmo)
DESCRIPTION:Enjoy a delightful Sunday brunch at 1885 Grill in St. Elmo\, ac
 companied by the live musical stylings of Amber Fults\, providing the perf
 ect soundtrack to your weekend meal.
CATEGORIES:Live Music
LOCATION:1885 Grill (St. Elmo)\,\,  3914 St Elmo Ave\, \, Chattanooga\, TN\
 , 37409\, 
GEO:35.010113;-85.328227
X-APPLE-STRUCTURED-LOCATION;VALUE=URI;X-ADDRESS= 3914 St Elmo Ave\, \, Chat
 tanooga\, TN\, 37409\, ;X-APPLE-RADIUS=100;X-TITLE=1885 Grill (St. Elmo)\,
 :geo:35.010113,-85.328227
END:VEVENT
BEGIN:VTIMEZONE
TZID:America/New_York
X-LIC-LOCATION:America/New_York
BEGIN:DAYLIGHT
DTSTART:20250309T030000
TZOFFSETFROM:-0500
TZOFFSETTO:-0400
TZNAME:EDT
END:DAYLIGHT
END:VTIMEZONE
END:VCALENDAR