BEGIN:VCALENDAR
VERSION:2.0
PRODID:-//wp-events-plugin.com//7.2.3.1//EN
TZID:America/New_York
X-WR-TIMEZONE:America/New_York
BEGIN:VEVENT
UID:261@chattanoogamusicscene.com
DTSTART;TZID=America/New_York:20250718T220000
DTEND;TZID=America/New_York:20250719T013000
DTSTAMP:20250606T044540Z
URL:https://www.chattanoogamusicscene.com/events/sons-of-a-sinner-live-bud
 s/
SUMMARY:SONS OF A SINNER LIVE @ BUDS!
DESCRIPTION:SONS OF A SINNER LIVE @ BUDS!\nNO COVER AS ALWAYS!\nONLY @ BUDS
 !
CATEGORIES:Live Music
LOCATION:BUDS SPORTS BAR\, 5751 Brainerd Road\, Chattanooga\, Tennessee\, 3
 7411\, United States
GEO:35.012812;-85.213157
X-APPLE-STRUCTURED-LOCATION;VALUE=URI;X-ADDRESS=5751 Brainerd Road\, Chatta
 nooga\, Tennessee\, 37411\, United States;X-APPLE-RADIUS=100;X-TITLE=BUDS 
 SPORTS BAR:geo:35.012812,-85.213157
END:VEVENT
BEGIN:VTIMEZONE
TZID:America/New_York
X-LIC-LOCATION:America/New_York
BEGIN:DAYLIGHT
DTSTART:20250309T030000
TZOFFSETFROM:-0500
TZOFFSETTO:-0400
TZNAME:EDT
END:DAYLIGHT
END:VTIMEZONE
END:VCALENDAR