BEGIN:VCALENDAR
VERSION:2.0
PRODID:-//wp-events-plugin.com//7.2.3.1//EN
TZID:America/New_York
X-WR-TIMEZONE:America/New_York
BEGIN:VEVENT
UID:119@chattanoogamusicscene.com
DTSTART;TZID=America/New_York:20250614T200000
DTEND;TZID=America/New_York:20250614T230000
DTSTAMP:20250506T022905Z
URL:https://www.chattanoogamusicscene.com/events/rockn-the-green-at-mary-j
 anes/
SUMMARY:Rock\\'N The Green At Mary Jane’s
DESCRIPTION:A High-Spirited Celebration\nLive Music starts at 8PM\, $15 Cov
 er Charge at Door with valid ID 21+\n8 PM Little Heads &amp\; Fat Shafts\n
 9PM M.J. Hale\n10PM Jack Endelouz &amp\; the Family Band\nStraight To The 
 Stomach will be setup out front for your munchies
CATEGORIES:Live Music
LOCATION:Mary Jane\\'s Corner\, 7301 Lee Hwy \, Chattanooga\, TN \, 37421  
 \, United States
GEO:35.052695;-85.150255
X-APPLE-STRUCTURED-LOCATION;VALUE=URI;X-ADDRESS=7301 Lee Hwy \, Chattanooga
 \, TN \, 37421  \, United States;X-APPLE-RADIUS=100;X-TITLE=Mary Jane\\'s 
 Corner:geo:35.052695,-85.150255
END:VEVENT
BEGIN:VTIMEZONE
TZID:America/New_York
X-LIC-LOCATION:America/New_York
BEGIN:DAYLIGHT
DTSTART:20250309T030000
TZOFFSETFROM:-0500
TZOFFSETTO:-0400
TZNAME:EDT
END:DAYLIGHT
END:VTIMEZONE
END:VCALENDAR