BEGIN:VCALENDAR
VERSION:2.0
PRODID:-//wp-events-plugin.com//7.2.3.1//EN
TZID:America/New_York
X-WR-TIMEZONE:America/New_York
BEGIN:VEVENT
UID:116@chattanoogamusicscene.com
DTSTART;TZID=America/New_York:20250524T200000
DTEND;TZID=America/New_York:20250524T230000
DTSTAMP:20250505T021814Z
URL:https://www.chattanoogamusicscene.com/events/rock-night-w-dayz-of-dece
 ption-questionable-intent/
SUMMARY:Rock Night w/ Dayz of Deception &amp\; Questionable Intent
DESCRIPTION:Raw Rock music from Dayz of Deception &amp\; Questionable Inten
 t\nMary Janes Corner 7301 Lee Hwy Chattanooga\, Tn.\n$15 cover at the door
  !\nStraight to the Stomach will be setup outside for your munchies\n
CATEGORIES:Live Music
LOCATION:\, \, 
X-APPLE-STRUCTURED-LOCATION;VALUE=URI;X-ADDRESS=\, ;X-APPLE-RADIUS=100;X-TI
 TLE=:geo:0,0
END:VEVENT
BEGIN:VTIMEZONE
TZID:America/New_York
X-LIC-LOCATION:America/New_York
BEGIN:DAYLIGHT
DTSTART:20250309T030000
TZOFFSETFROM:-0500
TZOFFSETTO:-0400
TZNAME:EDT
END:DAYLIGHT
END:VTIMEZONE
END:VCALENDAR