BEGIN:VCALENDAR
VERSION:2.0
PRODID:-//wp-events-plugin.com//7.2.3.1//EN
TZID:America/New_York
X-WR-TIMEZONE:America/New_York
BEGIN:VEVENT
UID:117@chattanoogamusicscene.com
DTSTART;TZID=America/New_York:20250531T200000
DTEND;TZID=America/New_York:20250531T230000
DTSTAMP:20250505T022122Z
URL:https://www.chattanoogamusicscene.com/events/m-j-corner-presents-a-lit
 tle-punk/
SUMMARY:M.J. Corner Presents a Little Punk
DESCRIPTION:Doors open at 7:30pm Show starts at 8pm\n$15 cover charge at th
 e door with valid ID 21+\nRock with Groovy Beats and Green Vibes:\nStupid 
 As All Get Out\nThe Slow Attack\nDivision of Fire\n\nHanner International 
 Food Truck will setup out front for your munchies\n\n
CATEGORIES:Live Music
LOCATION:\, \, 
X-APPLE-STRUCTURED-LOCATION;VALUE=URI;X-ADDRESS=\, ;X-APPLE-RADIUS=100;X-TI
 TLE=:geo:0,0
END:VEVENT
BEGIN:VTIMEZONE
TZID:America/New_York
X-LIC-LOCATION:America/New_York
BEGIN:DAYLIGHT
DTSTART:20250309T030000
TZOFFSETFROM:-0500
TZOFFSETTO:-0400
TZNAME:EDT
END:DAYLIGHT
END:VTIMEZONE
END:VCALENDAR