BEGIN:VCALENDAR
VERSION:2.0
PRODID:-//wp-events-plugin.com//7.2.3.1//EN
TZID:America/New_York
X-WR-TIMEZONE:America/New_York
BEGIN:VEVENT
UID:111@chattanoogamusicscene.com
DTSTART;TZID=America/New_York:20250517T200000
DTEND;TZID=America/New_York:20250517T230000
DTSTAMP:20250504T165440Z
URL:https://www.chattanoogamusicscene.com/events/green-sheep-of-the-family
 /
SUMMARY:Green Sheep of the Family
DESCRIPTION:Get some Green Vibes with CALLEE\,  CUATRO CINCO\, DUPREEZY &a
 mp\; JAYE DOLLA doors open at 7:30pm show starts at 8pm. $15 Cover charge 
 at door with valid ID 21+
CATEGORIES:Live Music
END:VEVENT
BEGIN:VTIMEZONE
TZID:America/New_York
X-LIC-LOCATION:America/New_York
BEGIN:DAYLIGHT
DTSTART:20250309T030000
TZOFFSETFROM:-0500
TZOFFSETTO:-0400
TZNAME:EDT
END:DAYLIGHT
END:VTIMEZONE
END:VCALENDAR