BEGIN:VCALENDAR
VERSION:2.0
PRODID:-//wp-events-plugin.com//7.2.3.1//EN
TZID:America/New_York
X-WR-TIMEZONE:America/New_York
BEGIN:VEVENT
UID:118@chattanoogamusicscene.com
DTSTART;TZID=America/New_York:20250613T200000
DTEND;TZID=America/New_York:20250613T230000
DTSTAMP:20250506T011831Z
URL:https://www.chattanoogamusicscene.com/events/friday-13th-birthday-bash
 -at-mary-janes-corner/
SUMMARY:Friday 13th Birthday Bash at Mary Jane\\'s Corner
DESCRIPTION:Get your face melted like Freddy Krueger with Big OAF\, Slow At
 tack \,Fallen Colossus\nDoors open at 7:30pm show starts at 8pm $15 cover 
 at door with valid ID 21+\nCome celebrate Friday the 13th with a birthday 
 bash at Mary Jane's Corner - it's gonna be a killer time!\n
CATEGORIES:Live Music
LOCATION:\, \, 
X-APPLE-STRUCTURED-LOCATION;VALUE=URI;X-ADDRESS=\, ;X-APPLE-RADIUS=100;X-TI
 TLE=:geo:0,0
END:VEVENT
BEGIN:VTIMEZONE
TZID:America/New_York
X-LIC-LOCATION:America/New_York
BEGIN:DAYLIGHT
DTSTART:20250309T030000
TZOFFSETFROM:-0500
TZOFFSETTO:-0400
TZNAME:EDT
END:DAYLIGHT
END:VTIMEZONE
END:VCALENDAR