BEGIN:VCALENDAR
VERSION:2.0
PRODID:-//wp-events-plugin.com//7.2.3.1//EN
TZID:America/New_York
X-WR-TIMEZONE:America/New_York
BEGIN:VEVENT
UID:316@chattanoogamusicscene.com
DTSTART;TZID=America/New_York:20250808T200000
DTEND;TZID=America/New_York:20250808T234500
DTSTAMP:20250729T134452Z
URL:https://www.chattanoogamusicscene.com/events/d4-booking-presents-the-c
 onstellations-cosmic-twelve-dropsonic-hidden-cabins/
SUMMARY:D4 Booking Presents: THE CONSTELLATIONS / COSMIC TWELVE / DROPSONIC
  / HIDDEN CABINS
DESCRIPTION:D4 Booking Presents:\nFriday\, August 8th @ Cherry St. TavernDo
 ors at 8pmShowtime at 9pm\n\nTHE CONSTELLATIONS\nTHE COSMIC TWELVE\nDROPSO
 NIC\nHIDDEN CABINS\n\n\nThe Constellations are a Nashville-based rock band
  which was originally formed in Atlanta in 2008. The band quickly experien
 ced wide critical acclaim including film and television placements in Chuc
 k\, Royal Pains\, Suits\, Vampire Diaries\, Horrible Bosses\, and more. Th
 e Constellations’ unique blending of styles and influences creates music
  that appeals to all different walks of life.\n​After a years-long hiatu
 s and various different iterations and side projects\, front man Elijah Jo
 nes found himself revisiting some of the original material in mid-2023. Wh
 ile in the studio working on the latest album under the project Elijah Jon
 es &amp\; the CCs\, Elijah found that his writing style was gravitating in
 creasingly back to the sound of The Constellations. This Atlanta sound\, f
 iltered through the influence of several years spent in Nashville\, came o
 ut as a sort of Tom Petty meets The Strokes meets Elvis Costello melting p
 ot.\n​Elijah’s lyrics tell the story of loss\, heartbreak\, recovery\,
  and the resilience of the human spirit. With this new journey\, The Const
 ellations’ sound has matured into something truly special that is both u
 nique and familiar.\nhttps://www.theconstellationsofficial.com/\n\n
ATTACH;FMTTYPE=image/jpeg:https://www.chattanoogamusicscene.com/wp-content
 /uploads/2025/07/502536856_1023628049876367_6216429246648376884_n.jpg
CATEGORIES:Live Music
LOCATION:Cherry Street Tavern\, 719 Cherry Street\, Chattanooga\, TN 37402\
 , Chattanooga\, TN\, 37402\, United States
GEO:35.047722;-85.308644
X-APPLE-STRUCTURED-LOCATION;VALUE=URI;X-ADDRESS=719 Cherry Street\, Chattan
 ooga\, TN 37402\, Chattanooga\, TN\, 37402\, United States;X-APPLE-RADIUS=
 100;X-TITLE=Cherry Street Tavern:geo:35.047722,-85.308644
END:VEVENT
BEGIN:VTIMEZONE
TZID:America/New_York
X-LIC-LOCATION:America/New_York
BEGIN:DAYLIGHT
DTSTART:20250309T030000
TZOFFSETFROM:-0500
TZOFFSETTO:-0400
TZNAME:EDT
END:DAYLIGHT
END:VTIMEZONE
END:VCALENDAR