BEGIN:VCALENDAR
VERSION:2.0
PRODID:-//wp-events-plugin.com//7.2.3.1//EN
TZID:America/New_York
X-WR-TIMEZONE:America/New_York
BEGIN:VEVENT
UID:110@chattanoogamusicscene.com
DTSTART;TZID=America/New_York:20250516T210000
DTEND;TZID=America/New_York:20250516T234500
DTSTAMP:20250505T021154Z
URL:https://www.chattanoogamusicscene.com/events/clout-trap-back-in-the-tr
 ap/
SUMMARY:Clout Trap: Back In The Trap
DESCRIPTION:Goldfinger Production$ presents\n\nClout Trap: Back in The Trap
 \n\nHosted by: C-Grimey\nSounds by: DJ Prophet\n\nJoin us for the return o
 f the area's biggest and best hip-hop showcase. Artists sign up to get a p
 ersonal flyer\, perform and compete for a spot in the finale and a cash pr
 ize.\n\n\nDoors open at 8pm show starts at 9:00pm sharp $15 cover charge a
 t the door with valid ID 21+\nStraight to the Stomach will be setup outsid
 e for your munchies\n\n
CATEGORIES:Live Music
LOCATION:\, \, 
X-APPLE-STRUCTURED-LOCATION;VALUE=URI;X-ADDRESS=\, ;X-APPLE-RADIUS=100;X-TI
 TLE=:geo:0,0
END:VEVENT
BEGIN:VTIMEZONE
TZID:America/New_York
X-LIC-LOCATION:America/New_York
BEGIN:DAYLIGHT
DTSTART:20250309T030000
TZOFFSETFROM:-0500
TZOFFSETTO:-0400
TZNAME:EDT
END:DAYLIGHT
END:VTIMEZONE
END:VCALENDAR