BEGIN:VCALENDAR
VERSION:2.0
PRODID:-//wp-events-plugin.com//7.2.3.1//EN
TZID:America/New_York
X-WR-TIMEZONE:America/New_York
BEGIN:VEVENT
UID:563@chattanoogamusicscene.com
DTSTART;TZID=America/New_York:20251128T190000
DTEND;TZID=America/New_York:20251128T190000
DTSTAMP:20251123T130746Z
URL:https://www.chattanoogamusicscene.com/events/amathyst-kiah-at-songbird
 s-chattanooga/
SUMMARY:Amathyst Kiah at Songbirds Chattanooga
DESCRIPTION:Event Details\nDoors at 6:00 PM\n\nShow at 7:00 PM\n\nSeated Sh
 ow\n\nhttps://www.eventim.us/wafform.aspx?_act=eventtickets&amp\;_pky=6608
 88\n\nOn her new album Still + Bright\, Tennessee-bred singer/songwriter A
 mythyst Kiah explores the vast expanse of her inner world: her deep-rooted
  affinity for Eastern philosophies and spiritual traditions\, a near-mysti
 cal connection with the natural environment\, the life lessons learned in 
 her formative years as a self-described “anime-nerd mall goth\,” and m
 uch more. Produced by Butch Walker (Taylor Swift\, Green Day\, Weezer) and
  recorded at his Nashville studio\, Kiah’s second full-length for Rounde
 r Records merges her revelatory storytelling with a darkly cinematic twist
  on the rootsy alt-rock of her 2021 breakthrough Wary + Strange—an LP th
 at landed on Rolling Stone’s list of the 25 Best Country and Americana A
 lbums of 2021 and drew acclaim from major outlets like Pitchfork. With its
  sonic palette encompassing everything from fuzzed-out guitars and industr
 ial-leaning beats to gilded pedal steel and Kiah’s exquisitely graceful 
 banjo work\, Still + Bright makes for a vital new addition to a body of wo
 rk largely dedicated to exploring the struggle and joy of true self-discov
 ery.\n\nThe latest turn in a dynamic career that’s included joining Our 
 Native Daughters (an all-women-of-color supergroup also featuring Rhiannon
  Giddens\, Leyla McCalla\, and Allison Russell)\, Still + Bright emerged f
 rom a deliberate transformation of the songwriting process Kiah adopted af
 ter composing her first song on a Fender acoustic at age 13. To that end\,
  the album marks her first time opening up her approach and working with c
 o-writers\, including punk legend Tim Armstrong\, Sadler Vaden (a guitaris
 t/vocalist for Jason Isbell’s 400 Unit)\, and former Pentatonix member A
 vi Kaplan. Although her third LP is an undeniable departure from the angui
 shed emotionality of its predecessor (an album informed by losing her moth
 er to suicide at age 17)\, Kiah imparts each track with a hypnotic intensi
 ty born from boldly stating her convictions. Revealing her rare ability to
  spin her fascinations into songs uncovering essential truths about human 
 nature\, Still + Bright ultimately affirms her as an artist of both daring
  originality and uncompromising depth.\n\nWith support from Drumming Bird!
ATTACH;FMTTYPE=image/jpeg:https://www.chattanoogamusicscene.com/wp-content
 /uploads/2025/11/amythyst-kiah.jpg
CATEGORIES:Live Music
LOCATION:Songbirds\, 206 W Main Street\, Chattanooga\, Tennessee\, 37408\, 
 Southside Chattanooga\, United States
GEO:43.15474;-77.618321
X-APPLE-STRUCTURED-LOCATION;VALUE=URI;X-ADDRESS=206 W Main Street\, Chattan
 ooga\, Tennessee\, 37408\, Southside Chattanooga\, United States;X-APPLE-R
 ADIUS=100;X-TITLE=Songbirds:geo:43.15474,-77.618321
END:VEVENT
BEGIN:VTIMEZONE
TZID:America/New_York
X-LIC-LOCATION:America/New_York
BEGIN:STANDARD
DTSTART:20251102T010000
TZOFFSETFROM:-0400
TZOFFSETTO:-0500
TZNAME:EST
END:STANDARD
END:VTIMEZONE
END:VCALENDAR